BEGIN:VCALENDAR
VERSION:2.0
PRODID:-//Lubbock Area Bar Association - ECPv6.13.2.1//NONSGML v1.0//EN
CALSCALE:GREGORIAN
METHOD:PUBLISH
X-ORIGINAL-URL:http://lubbockareabar.org
X-WR-CALDESC:Events for Lubbock Area Bar Association
REFRESH-INTERVAL;VALUE=DURATION:PT1H
X-Robots-Tag:noindex
X-PUBLISHED-TTL:PT1H
BEGIN:VTIMEZONE
TZID:America/Chicago
BEGIN:DAYLIGHT
TZOFFSETFROM:-0600
TZOFFSETTO:-0500
TZNAME:CDT
DTSTART:20200308T080000
END:DAYLIGHT
BEGIN:STANDARD
TZOFFSETFROM:-0500
TZOFFSETTO:-0600
TZNAME:CST
DTSTART:20201101T070000
END:STANDARD
END:VTIMEZONE
BEGIN:VEVENT
DTSTART;TZID=America/Chicago:20200311T120000
DTEND;TZID=America/Chicago:20200311T130000
DTSTAMP:20260422T122012
CREATED:20190523T084858Z
LAST-MODIFIED:20200309T192550Z
UID:708-1583928000-1583931600@lubbockareabar.org
SUMMARY:LABA Monthly Meeting
DESCRIPTION:RSVP to rsvp@lubbockareabar.org \n$15 – Members $20 – Non-Members
URL:http://lubbockareabar.org/event/monthly-meeting-2/
LOCATION:CenterPointe Event Center
END:VEVENT
BEGIN:VEVENT
DTSTART;TZID=America/Chicago:20200312T120000
DTEND;TZID=America/Chicago:20200312T160000
DTSTAMP:20260422T122012
CREATED:20200309T191905Z
LAST-MODIFIED:20200309T191905Z
UID:1028-1584014400-1584028800@lubbockareabar.org
SUMMARY:Path to Attorney Wellness MCLE
DESCRIPTION:THE PATH TO ATTORNEY WELLNESS CLE rescheduled announcement
URL:http://lubbockareabar.org/event/path-to-attorney-wellness-mcle/
END:VEVENT
BEGIN:VEVENT
DTSTART;TZID=America/Chicago:20200313T130000
DTEND;TZID=America/Chicago:20200313T140000
DTSTAMP:20260422T122012
CREATED:20200309T192341Z
LAST-MODIFIED:20200309T192444Z
UID:1032-1584104400-1584108000@lubbockareabar.org
SUMMARY:LABA Memorial for Hon. Bradley Underwood
DESCRIPTION:Please join the Lubbock Area Bar Association \nfor a memorial honoring \nHonorable Brad Underwood \nFriday\, March 13\, 2020 \n1:15 p.m. \n72nd District Court \nLUBBOCK COUNTY COURTHOUSE \nAll attorneys are invited to attend this memorial service to \ncelebrate the life of Brad Underwood and to share \ntreasured stories about him.
URL:http://lubbockareabar.org/event/laba-memorial-for-hon-bradley-underwood/
END:VEVENT
BEGIN:VEVENT
DTSTART;TZID=America/Chicago:20200317T120000
DTEND;TZID=America/Chicago:20200317T130000
DTSTAMP:20260422T122012
CREATED:20200309T193819Z
LAST-MODIFIED:20200309T193952Z
UID:1041-1584446400-1584450000@lubbockareabar.org
SUMMARY:SPTLA Monthly Meeting
DESCRIPTION:Wednesday\, March 18\, 2020 at noon at the Texas Tech Club. \nThis month’s meeting will be Jim Mitchell\, PayneMitchell Law Group presenting on “Preparing Plaintiffs to Testify.”
URL:http://lubbockareabar.org/event/sptla-monthly-meeting/
LOCATION:Texas Tech Club\, Lubbock\, texas\, 79409
END:VEVENT
BEGIN:VEVENT
DTSTART;TZID=America/Chicago:20200319T120000
DTEND;TZID=America/Chicago:20200319T130000
DTSTAMP:20260422T122012
CREATED:20200309T193250Z
LAST-MODIFIED:20200309T193616Z
UID:1036-1584619200-1584622800@lubbockareabar.org
SUMMARY:LCWLA Monthly Meeting
DESCRIPTION:Speaker: Ben Garcia\, “Marital Property” \nLubbock County Women Lawyers’ Association \nInvites you to the March Luncheon\n~~~ \nThursday\, March 19\, 2020\, at noon\nLubbock Women’s Club – 2020 Broadway Avenue \nBen Garcia\, “Marital Property”.  \n  \nRSVP by Tuesday\, March 17\, 2020. \nPlease send notice of your reservation to briana@texascivilpractice.com\n   \ncost for lunch is $15.00 \n1.00 hour CLE credit offered\, 
URL:http://lubbockareabar.org/event/lcwla-monthly-meeting/
LOCATION:Women’s Club\, 2020 Broadway\, Lubbock\, TX\, 79401\, United States
END:VEVENT
BEGIN:VEVENT
DTSTART;TZID=America/Chicago:20200327T090000
DTEND;TZID=America/Chicago:20200327T170000
DTSTAMP:20260422T122012
CREATED:20200309T195025Z
LAST-MODIFIED:20200309T195025Z
UID:1052-1585299600-1585328400@lubbockareabar.org
SUMMARY:Building Blocks of Wills\, Estates & Probate
DESCRIPTION:Building Blocks of Wills Estates and Probate 2020 Announcement
URL:http://lubbockareabar.org/event/building-blocks-of-wills-estates-probate/
END:VEVENT
BEGIN:VEVENT
DTSTART;TZID=America/Chicago:20200327T120000
DTEND;TZID=America/Chicago:20200327T130000
DTSTAMP:20260422T122012
CREATED:20200309T194710Z
LAST-MODIFIED:20200309T194710Z
UID:1050-1585310400-1585314000@lubbockareabar.org
SUMMARY:WTBBA Monthly Meeting
DESCRIPTION:Speaker: TBA
URL:http://lubbockareabar.org/event/wtbba-monthly-meeting-2/
LOCATION:Women’s Club\, 2020 Broadway\, Lubbock\, TX\, 79401\, United States
END:VEVENT
END:VCALENDAR