BEGIN:VCALENDAR
VERSION:2.0
PRODID:-//Lubbock Area Bar Association - ECPv6.13.2.1//NONSGML v1.0//EN
CALSCALE:GREGORIAN
METHOD:PUBLISH
X-WR-CALNAME:Lubbock Area Bar Association
X-ORIGINAL-URL:http://lubbockareabar.org
X-WR-CALDESC:Events for Lubbock Area Bar Association
REFRESH-INTERVAL;VALUE=DURATION:PT1H
X-Robots-Tag:noindex
X-PUBLISHED-TTL:PT1H
BEGIN:VTIMEZONE
TZID:America/Chicago
BEGIN:DAYLIGHT
TZOFFSETFROM:-0600
TZOFFSETTO:-0500
TZNAME:CDT
DTSTART:20190310T080000
END:DAYLIGHT
BEGIN:STANDARD
TZOFFSETFROM:-0500
TZOFFSETTO:-0600
TZNAME:CST
DTSTART:20191103T070000
END:STANDARD
END:VTIMEZONE
BEGIN:VEVENT
DTSTART;TZID=America/Chicago:20191212T180000
DTEND;TZID=America/Chicago:20191212T190000
DTSTAMP:20260422T165057
CREATED:20190402T041959Z
LAST-MODIFIED:20191107T185400Z
UID:721-1576173600-1576177200@lubbockareabar.org
SUMMARY:Christmas Party
DESCRIPTION:Cafe J \nDecember 12th \nPlease bring a toy for our annual Toys for Tots Drive
URL:http://lubbockareabar.org/event/members-only-christmas-party/
END:VEVENT
END:VCALENDAR