BEGIN:VCALENDAR
VERSION:2.0
PRODID:-//Lubbock Area Bar Association - ECPv6.13.2.1//NONSGML v1.0//EN
CALSCALE:GREGORIAN
METHOD:PUBLISH
X-ORIGINAL-URL:http://lubbockareabar.org
X-WR-CALDESC:Events for Lubbock Area Bar Association
REFRESH-INTERVAL;VALUE=DURATION:PT1H
X-Robots-Tag:noindex
X-PUBLISHED-TTL:PT1H
BEGIN:VTIMEZONE
TZID:America/Chicago
BEGIN:DAYLIGHT
TZOFFSETFROM:-0600
TZOFFSETTO:-0500
TZNAME:CDT
DTSTART:20190310T080000
END:DAYLIGHT
BEGIN:STANDARD
TZOFFSETFROM:-0500
TZOFFSETTO:-0600
TZNAME:CST
DTSTART:20191103T070000
END:STANDARD
END:VTIMEZONE
BEGIN:VEVENT
DTSTART;TZID=America/Chicago:20191113T120000
DTEND;TZID=America/Chicago:20191113T130000
DTSTAMP:20260422T181648
CREATED:20190523T041751Z
LAST-MODIFIED:20191107T184838Z
UID:719-1573646400-1573650000@lubbockareabar.org
SUMMARY:Monthly Meeting
DESCRIPTION:RSVP to rsvp@lubbockareabar.org | $15 – Members $25 – Non-Members
URL:http://lubbockareabar.org/event/monthly-meeting-6/
LOCATION:TX\, United States
END:VEVENT
BEGIN:VEVENT
DTSTART;TZID=America/Chicago:20191114T190000
DTEND;TZID=America/Chicago:20191114T203000
DTSTAMP:20260422T181648
CREATED:20191107T185911Z
LAST-MODIFIED:20191107T185911Z
UID:1012-1573758000-1573763400@lubbockareabar.org
SUMMARY:LCYLA Swearing-in Ceremony
DESCRIPTION:November 14\, 2019\nTexas Tech University School of Law: Hunt Courtroom\n3311 18th Street\, Lubbock\, Texas\n7:00 p.m.\nRegistration (6:30 pm) \nReception to follow \nFamily and business associates welcome \nRSVP to \nGarrett Couts\ngcouts@mhbg.com \n806-796-7350
URL:http://lubbockareabar.org/event/lcyla-swearing-in-ceremony/
END:VEVENT
END:VCALENDAR