BEGIN:VCALENDAR
VERSION:2.0
PRODID:-//Lubbock Area Bar Association - ECPv6.13.2.1//NONSGML v1.0//EN
CALSCALE:GREGORIAN
METHOD:PUBLISH
X-ORIGINAL-URL:http://lubbockareabar.org
X-WR-CALDESC:Events for Lubbock Area Bar Association
REFRESH-INTERVAL;VALUE=DURATION:PT1H
X-Robots-Tag:noindex
X-PUBLISHED-TTL:PT1H
BEGIN:VTIMEZONE
TZID:UTC
BEGIN:STANDARD
TZOFFSETFROM:+0000
TZOFFSETTO:+0000
TZNAME:UTC
DTSTART:20190101T000000
END:STANDARD
END:VTIMEZONE
BEGIN:VEVENT
DTSTART;TZID=UTC:20190612T120000
DTEND;TZID=UTC:20190612T130000
DTSTAMP:20260423T010004
CREATED:20190523T082511Z
LAST-MODIFIED:20190523T084111Z
UID:703-1560340800-1560344400@lubbockareabar.org
SUMMARY:Monthly Meeting
DESCRIPTION:RSVP to rsvp@lubbockareabar.org\n\n$15 – Members $20 – Non-Members
URL:http://lubbockareabar.org/event/june-12/
LOCATION:50 Yard Line\, 1426\, 2549 S Loop 289\, Lubbock\, TX\, 79423\, United States
END:VEVENT
END:VCALENDAR