BEGIN:VCALENDAR
VERSION:2.0
PRODID:-//Lubbock Area Bar Association - ECPv6.13.2.1//NONSGML v1.0//EN
CALSCALE:GREGORIAN
METHOD:PUBLISH
X-ORIGINAL-URL:http://lubbockareabar.org
X-WR-CALDESC:Events for Lubbock Area Bar Association
REFRESH-INTERVAL;VALUE=DURATION:PT1H
X-Robots-Tag:noindex
X-PUBLISHED-TTL:PT1H
BEGIN:VTIMEZONE
TZID:America/Chicago
BEGIN:DAYLIGHT
TZOFFSETFROM:-0600
TZOFFSETTO:-0500
TZNAME:CDT
DTSTART:20230312T080000
END:DAYLIGHT
BEGIN:STANDARD
TZOFFSETFROM:-0500
TZOFFSETTO:-0600
TZNAME:CST
DTSTART:20231105T070000
END:STANDARD
BEGIN:DAYLIGHT
TZOFFSETFROM:-0600
TZOFFSETTO:-0500
TZNAME:CDT
DTSTART:20240310T080000
END:DAYLIGHT
BEGIN:STANDARD
TZOFFSETFROM:-0500
TZOFFSETTO:-0600
TZNAME:CST
DTSTART:20241103T070000
END:STANDARD
END:VTIMEZONE
BEGIN:VEVENT
DTSTART;VALUE=DATE:20241211
DTEND;VALUE=DATE:20241212
DTSTAMP:20260423T212601
CREATED:20240621T201252Z
LAST-MODIFIED:20240621T201252Z
UID:1276-1733875200-1733961599@lubbockareabar.org
SUMMARY:NO Luncheon in December
DESCRIPTION:See you at the Holiday Party
URL:http://lubbockareabar.org/event/no-luncheon-in-december/
CATEGORIES:Monthly Meeting
END:VEVENT
BEGIN:VEVENT
DTSTART;TZID=America/Chicago:20241113T120000
DTEND;TZID=America/Chicago:20241113T130000
DTSTAMP:20260423T212601
CREATED:20240621T201203Z
LAST-MODIFIED:20240621T201203Z
UID:1274-1731499200-1731502800@lubbockareabar.org
SUMMARY:Luncheon
DESCRIPTION:TBA
URL:http://lubbockareabar.org/event/luncheon-4/
LOCATION:Texas Tech University School of Law\, 3301 18th Street\, Lubbock\, Texas
CATEGORIES:Monthly Meeting
END:VEVENT
BEGIN:VEVENT
DTSTART;TZID=America/Chicago:20241009T120000
DTEND;TZID=America/Chicago:20241009T130000
DTSTAMP:20260423T212601
CREATED:20240621T201113Z
LAST-MODIFIED:20240621T201113Z
UID:1272-1728475200-1728478800@lubbockareabar.org
SUMMARY:Luncheon
DESCRIPTION:TBA
URL:http://lubbockareabar.org/event/luncheon-3/
LOCATION:Texas Tech University School of Law\, 3301 18th Street\, Lubbock\, Texas
CATEGORIES:Monthly Meeting
END:VEVENT
BEGIN:VEVENT
DTSTART;TZID=America/Chicago:20240911T120000
DTEND;TZID=America/Chicago:20240911T130000
DTSTAMP:20260423T212601
CREATED:20240621T201018Z
LAST-MODIFIED:20240621T201018Z
UID:1270-1726056000-1726059600@lubbockareabar.org
SUMMARY:Luncheon
DESCRIPTION:TBA
URL:http://lubbockareabar.org/event/luncheon-2/
LOCATION:Texas Tech University School of Law\, 3301 18th Street\, Lubbock\, Texas
CATEGORIES:Monthly Meeting
END:VEVENT
BEGIN:VEVENT
DTSTART;TZID=America/Chicago:20240517T120000
DTEND;TZID=America/Chicago:20240517T130000
DTSTAMP:20260423T212601
CREATED:20240310T175654Z
LAST-MODIFIED:20240310T175654Z
UID:1241-1715947200-1715950800@lubbockareabar.org
SUMMARY:May Luncheon
DESCRIPTION:May 17\, 2024 \n12p-1pm \nTexas Tech University School of Law
URL:http://lubbockareabar.org/event/may-luncheon/
LOCATION:Texas Tech University School of Law\, 3301 18th Street\, Lubbock\, Texas
CATEGORIES:Monthly Meeting
END:VEVENT
BEGIN:VEVENT
DTSTART;TZID=America/Chicago:20240410T120000
DTEND;TZID=America/Chicago:20240410T130000
DTSTAMP:20260423T212601
CREATED:20240310T175145Z
LAST-MODIFIED:20240310T175145Z
UID:1235-1712750400-1712754000@lubbockareabar.org
SUMMARY:April Luncheon
DESCRIPTION:April 10\, 2024 \n12p – 1p \nTexas Tech University Law School
URL:http://lubbockareabar.org/event/april-luncheon/
LOCATION:Texas Tech University School of Law\, 3301 18th Street\, Lubbock\, Texas
CATEGORIES:Monthly Meeting
END:VEVENT
BEGIN:VEVENT
DTSTART;TZID=America/Chicago:20240306T120000
DTEND;TZID=America/Chicago:20240306T170000
DTSTAMP:20260423T212601
CREATED:20240310T174635Z
LAST-MODIFIED:20240310T174635Z
UID:1231-1709726400-1709744400@lubbockareabar.org
SUMMARY:March Luncheon
DESCRIPTION:Speaker: Laura Pratt
URL:http://lubbockareabar.org/event/march-luncheon/
LOCATION:Texas Tech University School of Law\, 3301 18th Street\, Lubbock\, Texas
CATEGORIES:Monthly Meeting
END:VEVENT
BEGIN:VEVENT
DTSTART;TZID=America/Chicago:20231108T120000
DTEND;TZID=America/Chicago:20231108T130000
DTSTAMP:20260423T212601
CREATED:20231003T005943Z
LAST-MODIFIED:20231003T005943Z
UID:1208-1699444800-1699448400@lubbockareabar.org
SUMMARY:Monthly Meeting
DESCRIPTION:
URL:http://lubbockareabar.org/event/monthly-meeting-10/
LOCATION:Texas Tech University School of Law\, 3301 18th Street\, Lubbock\, Texas
CATEGORIES:Monthly Meeting
END:VEVENT
BEGIN:VEVENT
DTSTART;TZID=America/Chicago:20231011T120000
DTEND;TZID=America/Chicago:20231011T130000
DTSTAMP:20260423T212601
CREATED:20231003T005708Z
LAST-MODIFIED:20231003T005708Z
UID:1203-1697025600-1697029200@lubbockareabar.org
SUMMARY:Monthly Meeting
DESCRIPTION:
URL:http://lubbockareabar.org/event/monthly-meeting-9/
LOCATION:Texas Tech University School of Law\, 3301 18th Street\, Lubbock\, Texas
CATEGORIES:Monthly Meeting
END:VEVENT
END:VCALENDAR