BEGIN:VCALENDAR
VERSION:2.0
PRODID:-//Lubbock Area Bar Association - ECPv6.13.2.1//NONSGML v1.0//EN
CALSCALE:GREGORIAN
METHOD:PUBLISH
X-WR-CALNAME:Lubbock Area Bar Association
X-ORIGINAL-URL:http://lubbockareabar.org
X-WR-CALDESC:Events for Lubbock Area Bar Association
REFRESH-INTERVAL;VALUE=DURATION:PT1H
X-Robots-Tag:noindex
X-PUBLISHED-TTL:PT1H
BEGIN:VTIMEZONE
TZID:America/Chicago
BEGIN:DAYLIGHT
TZOFFSETFROM:-0600
TZOFFSETTO:-0500
TZNAME:CDT
DTSTART:20240310T080000
END:DAYLIGHT
BEGIN:STANDARD
TZOFFSETFROM:-0500
TZOFFSETTO:-0600
TZNAME:CST
DTSTART:20241103T070000
END:STANDARD
END:VTIMEZONE
BEGIN:VEVENT
DTSTART;TZID=America/Chicago:20240627T173000
DTEND;TZID=America/Chicago:20240627T190000
DTSTAMP:20260421T050929
CREATED:20240621T200513Z
LAST-MODIFIED:20240621T200513Z
UID:1261-1719509400-1719514800@lubbockareabar.org
SUMMARY:LABA Summer Social
DESCRIPTION:5:30p – 7:00p \nThe Reserve \n10305 Quaker Ave Suite 200\, Lubbock\, TX 79424
URL:http://lubbockareabar.org/event/laba-summer-social/
LOCATION:The Reserve\, 10305 Quaker Ave Suite 200\, Lubbock\, TEXAS\, 79424
END:VEVENT
END:VCALENDAR