BEGIN:VCALENDAR
VERSION:2.0
PRODID:-//Lubbock Area Bar Association - ECPv6.13.2.1//NONSGML v1.0//EN
CALSCALE:GREGORIAN
METHOD:PUBLISH
X-ORIGINAL-URL:http://lubbockareabar.org
X-WR-CALDESC:Events for Lubbock Area Bar Association
REFRESH-INTERVAL;VALUE=DURATION:PT1H
X-Robots-Tag:noindex
X-PUBLISHED-TTL:PT1H
BEGIN:VTIMEZONE
TZID:America/Chicago
BEGIN:DAYLIGHT
TZOFFSETFROM:-0600
TZOFFSETTO:-0500
TZNAME:CDT
DTSTART:20240310T080000
END:DAYLIGHT
BEGIN:STANDARD
TZOFFSETFROM:-0500
TZOFFSETTO:-0600
TZNAME:CST
DTSTART:20241103T070000
END:STANDARD
END:VTIMEZONE
BEGIN:VEVENT
DTSTART;TZID=America/Chicago:20240308T120000
DTEND;TZID=America/Chicago:20240308T130000
DTSTAMP:20260419T112032
CREATED:20240310T174926Z
LAST-MODIFIED:20240310T174926Z
UID:1233-1709899200-1709902800@lubbockareabar.org
SUMMARY:International Women's Day Celebration
DESCRIPTION:This year\, International Women’s Day will be celebrated on March 8\, 2024. LCWLA is helping to sponsor this celebration! \nWe will have our March meeting at noon on the 8th at the Lubbock Women’s Club. Justice Judy Parker\, of the Seventh Court of Appeals\, will give some brief remarks on Celebrating Women in the Law\, and we will have a short CLE presentation from the State Bar of Texas. \nThis free celebration is open to all members!! \nThank you to our sponsors for this event:  the Women & the Law Section of the State Bar of Texas\, Lubbock County Women Lawyers Association\, the Lubbock Area Bar Association\, the Texas Tech School of Law Community Engagement Committee\, and the Organization of Women Law Students at TTU Law. \nPlease RSVP to Kayla Wimberley (kayla.wimberley@ttu.edu).
URL:http://lubbockareabar.org/event/international-womens-day-celebration/
LOCATION:Women’s Club\, 2020 Broadway\, Lubbock\, TX\, 79401\, United States
END:VEVENT
END:VCALENDAR