BEGIN:VCALENDAR
VERSION:2.0
PRODID:-//Lubbock Area Bar Association - ECPv6.13.2.1//NONSGML v1.0//EN
CALSCALE:GREGORIAN
METHOD:PUBLISH
X-WR-CALNAME:Lubbock Area Bar Association
X-ORIGINAL-URL:http://lubbockareabar.org
X-WR-CALDESC:Events for Lubbock Area Bar Association
REFRESH-INTERVAL;VALUE=DURATION:PT1H
X-Robots-Tag:noindex
X-PUBLISHED-TTL:PT1H
BEGIN:VTIMEZONE
TZID:UTC
BEGIN:STANDARD
TZOFFSETFROM:+0000
TZOFFSETTO:+0000
TZNAME:UTC
DTSTART:20200101T000000
END:STANDARD
END:VTIMEZONE
BEGIN:VEVENT
DTSTART;TZID=UTC:20200610T120000
DTEND;TZID=UTC:20200610T130000
DTSTAMP:20260422T091955
CREATED:20190504T015839Z
LAST-MODIFIED:20200601T211155Z
UID:544-1591790400-1591794000@lubbockareabar.org
SUMMARY:Monthly Meeting via Video Conference
DESCRIPTION:Speaker:   Chris Ritter \nThis meeting will be broadcast via video conference.  Information will be sent to members as soon as it becomes available. \n 
URL:http://lubbockareabar.org/event/monthly-meeting/
LOCATION:CenterPointe Event Center
ATTACH;FMTTYPE=image/jpeg:http://lubbockareabar.org/wp-content/uploads/2019/02/lunch-small.jpg
END:VEVENT
END:VCALENDAR