BEGIN:VCALENDAR
VERSION:2.0
PRODID:-//Lubbock Area Bar Association - ECPv6.13.2.1//NONSGML v1.0//EN
CALSCALE:GREGORIAN
METHOD:PUBLISH
X-ORIGINAL-URL:http://lubbockareabar.org
X-WR-CALDESC:Events for Lubbock Area Bar Association
REFRESH-INTERVAL;VALUE=DURATION:PT1H
X-Robots-Tag:noindex
X-PUBLISHED-TTL:PT1H
BEGIN:VTIMEZONE
TZID:America/Chicago
BEGIN:DAYLIGHT
TZOFFSETFROM:-0600
TZOFFSETTO:-0500
TZNAME:CDT
DTSTART:20200308T080000
END:DAYLIGHT
BEGIN:STANDARD
TZOFFSETFROM:-0500
TZOFFSETTO:-0600
TZNAME:CST
DTSTART:20201101T070000
END:STANDARD
END:VTIMEZONE
BEGIN:VEVENT
DTSTART;TZID=America/Chicago:20200402T173000
DTEND;TZID=America/Chicago:20200402T193000
DTSTAMP:20260422T121326
CREATED:20200309T194234Z
LAST-MODIFIED:20200309T194533Z
UID:1044-1585848600-1585855800@lubbockareabar.org
SUMMARY:Heels & Hearsay: Hosted by LCWLA
DESCRIPTION:
URL:http://lubbockareabar.org/event/wtbba-monthly-meeting/
LOCATION:TX\, United States
END:VEVENT
END:VCALENDAR