BEGIN:VCALENDAR
VERSION:2.0
PRODID:-//Lubbock Area Bar Association - ECPv6.13.2.1//NONSGML v1.0//EN
CALSCALE:GREGORIAN
METHOD:PUBLISH
X-ORIGINAL-URL:http://lubbockareabar.org
X-WR-CALDESC:Events for Lubbock Area Bar Association
REFRESH-INTERVAL;VALUE=DURATION:PT1H
X-Robots-Tag:noindex
X-PUBLISHED-TTL:PT1H
BEGIN:VTIMEZONE
TZID:America/Chicago
BEGIN:DAYLIGHT
TZOFFSETFROM:-0600
TZOFFSETTO:-0500
TZNAME:CDT
DTSTART:20200308T080000
END:DAYLIGHT
BEGIN:STANDARD
TZOFFSETFROM:-0500
TZOFFSETTO:-0600
TZNAME:CST
DTSTART:20201101T070000
END:STANDARD
END:VTIMEZONE
BEGIN:VEVENT
DTSTART;TZID=America/Chicago:20200313T130000
DTEND;TZID=America/Chicago:20200313T140000
DTSTAMP:20260422T135707
CREATED:20200309T192341Z
LAST-MODIFIED:20200309T192444Z
UID:1032-1584104400-1584108000@lubbockareabar.org
SUMMARY:LABA Memorial for Hon. Bradley Underwood
DESCRIPTION:Please join the Lubbock Area Bar Association \nfor a memorial honoring \nHonorable Brad Underwood \nFriday\, March 13\, 2020 \n1:15 p.m. \n72nd District Court \nLUBBOCK COUNTY COURTHOUSE \nAll attorneys are invited to attend this memorial service to \ncelebrate the life of Brad Underwood and to share \ntreasured stories about him.
URL:http://lubbockareabar.org/event/laba-memorial-for-hon-bradley-underwood/
END:VEVENT
END:VCALENDAR